BEGIN:VCALENDAR
VERSION:2.0
PRODID:-//Yoga mit Bettina Voss I Dein Hatha-Yoga in Reutlingen - ECPv6.15.20//NONSGML v1.0//EN
CALSCALE:GREGORIAN
METHOD:PUBLISH
X-WR-CALNAME:Yoga mit Bettina Voss I Dein Hatha-Yoga in Reutlingen
X-ORIGINAL-URL:https://bettina-voss.de
X-WR-CALDESC:Veranstaltungen für Yoga mit Bettina Voss I Dein Hatha-Yoga in Reutlingen
REFRESH-INTERVAL;VALUE=DURATION:PT1H
X-Robots-Tag:noindex
X-PUBLISHED-TTL:PT1H
BEGIN:VTIMEZONE
TZID:Europe/Berlin
BEGIN:DAYLIGHT
TZOFFSETFROM:+0100
TZOFFSETTO:+0200
TZNAME:CEST
DTSTART:20250330T010000
END:DAYLIGHT
BEGIN:STANDARD
TZOFFSETFROM:+0200
TZOFFSETTO:+0100
TZNAME:CET
DTSTART:20251026T010000
END:STANDARD
BEGIN:DAYLIGHT
TZOFFSETFROM:+0100
TZOFFSETTO:+0200
TZNAME:CEST
DTSTART:20260329T010000
END:DAYLIGHT
BEGIN:STANDARD
TZOFFSETFROM:+0200
TZOFFSETTO:+0100
TZNAME:CET
DTSTART:20261025T010000
END:STANDARD
BEGIN:DAYLIGHT
TZOFFSETFROM:+0100
TZOFFSETTO:+0200
TZNAME:CEST
DTSTART:20270328T010000
END:DAYLIGHT
BEGIN:STANDARD
TZOFFSETFROM:+0200
TZOFFSETTO:+0100
TZNAME:CET
DTSTART:20271031T010000
END:STANDARD
END:VTIMEZONE
BEGIN:VEVENT
DTSTART;VALUE=DATE:20260627
DTEND;VALUE=DATE:20260629
DTSTAMP:20260421T150215
CREATED:20260415T202342Z
LAST-MODIFIED:20260416T090650Z
UID:1941-1782518400-1782691199@bettina-voss.de
SUMMARY:Neu entdeckt: Zensation Sommer-Festival Bönnigheim
DESCRIPTION:Mein Tipp im Juni:\nFür die großen Yoga- und Spirit-Festivals und Yoga-Messen will oder kann nicht jeder um die halbe Welt reisen. Hier meine Auswahl an feinen Events und Happynings im Ländle und in Bayern. Wie wär’s mit dem \nZensation-Sommer-Festival in Bönnigheim Hohenstein\nZwischen Stuttgart und Heilbronn dürfen wir bald Magisches erleben. Das versprechen uns Chiara und ihr Yoga-Team\, die zum dritten Mal ein gechilltes Yoga-Event zwischen Wiesen\, Wald und Weinbergen auf die Beine stellen. Eingeladen sind alle\, die im kleineren Rahmen Entspannung suchen und tiefer in die Magie des Yoga tauchen möchten. \nWas uns erwartet:\nEin Wochenende voller Harmonie\, Achtsamkeit und Selbstreflexion. Von inspirierenden Workshops\, Soundhealing\, Breathwork\, Tanz über meditative Praktiken bis hin zu erfrischenden Begegnungen mit Gleichgesinnten. Aber der Reihe nach. Workshops: Etwa 25 verschiedene Indoor- und Outdoor-Angebote Musik & Tanz: Tanz-Sessions\, gemeinsames Singen und Konzerte. Atmosphäre: Ein familiärer Rahmen mit Barfuß-Vibes\, Lagerfeuer und regionalen Marktständen für Kunsthandwerk. Verpflegung: Die Yoga-Community wird vegetarisch und vegan verwöhnt. Das Trinkwasser ist kostenlos. \nWas ich besonders charmant finde: Beim Sommer-Festival gibt es die Möglichkeit\, direkt am Gelände zu zelten oder den Camper abzustellen. Und: Das Wochenendticket ist mit 144 EUR wirklich leistbar – im Vergleich zu den anderen\, großen Yoga-und Spirit-Festivals. \nHörst du sie? Deine Yogamatte ruft! Sie will schon wissen\, wo eigentlich Bönnigheim liegt und wann sich sich dort mal lang machen darf.
URL:https://bettina-voss.de/event/wo-du-mich-triffst-zensationfestival/
LOCATION:Bönnigheim\, Bönnigheim Hohenstein\, 74357
CATEGORIES:Yoga-Events im Ländle
ATTACH;FMTTYPE=image/jpeg:https://bettina-voss.de/wp-content/uploads/2026/04/Zensationfestival.jpg
END:VEVENT
BEGIN:VEVENT
DTSTART;VALUE=DATE:20260710
DTEND;VALUE=DATE:20260713
DTSTAMP:20260421T150215
CREATED:20230324T105507Z
LAST-MODIFIED:20260415T203612Z
UID:1241-1783641600-1783900799@bettina-voss.de
SUMMARY:Wo du mich triffst: Om am See - Yoga & Musikfestival
DESCRIPTION:Mein Tipp im Juli:\nFür die großen Yoga- und Spirit-Festivals und Yoga-Messen will oder kann nicht jeder um die halbe Welt reisen. Hier meine Auswahl an feinen Events und Happynings im Ländle und in Bayern. Wie wär’s mit \nOm am See im Allgäu\nDas ganz besondere Festival an einem ganz besonderen Fleckchen Erde: in Füssen am Forggensee. Am und im Festspielhaus Neuschwanstein erwarten uns ausgesuchte Yoga-Workshops mit nationalen und internationalen Yogalehrern. Zugesagt haben bereits Barbra Noh\, Shiva Rea\, Petros Haffenrichter\, Robert Ehrenbrand\, Christine May\, Tanja Seehofer mit Yann Kuhlmann\, Dr. Ronald Steiner und viele weitere. \nAuf 7 Yoga Areas und einer märchenhaften Indoorbühne wird 3 Sommertage lang geyogt\, gefeiert\, getanzt und gejodelt. Richtig gelesen: ein Jodelworkshop mit Ignaz ist auch auf dem Programm! Neben einem großen veganen Marketplace gibt es Kinderyoga mit Betreuung\, Thai-Massage\, eine Tattoo Area und für die Camper einen Zeltplatz in der Nähe des Festivalgeländes.\nNicht zuletzt die mega Musikacts und DJ´s machen OM AM SEE zu einem unvergleichlichen Yoga-Festival bei uns im Süden. In den vergangenen Jahren durften wir dort Krishnadas\, Snatam Kaur\, Deva Premal & Miten\, Amistat\, Sam Garrett und viele weitere wundervolle Künstler:innen erleben. Für 2026 sind bereits großartige neue Gäste in Planung – lassen wir uns überraschen! \nVielleicht sehen wir uns auf der Matte – oder auf dem See?
URL:https://bettina-voss.de/event/tipp-im-juli/
LOCATION:Füssen\, Festspielhaus Neuschwanstein\, Im See 1\, 87629 Füssen
CATEGORIES:Yoga-Events im Ländle
ATTACH;FMTTYPE=image/jpeg:https://bettina-voss.de/wp-content/uploads/2023/03/omamsee.jpg
END:VEVENT
BEGIN:VEVENT
DTSTART;VALUE=DATE:20260717
DTEND;VALUE=DATE:20260720
DTSTAMP:20260421T150215
CREATED:20250416T154628Z
LAST-MODIFIED:20260416T090525Z
UID:1727-1784246400-1784505599@bettina-voss.de
SUMMARY:Glücksbringer: 5 Elements Festival am Main
DESCRIPTION:Mein Tipp im Juli:\nFür die großen Yoga- und Spirit-Festivals und Yoga-Messen will oder kann nicht jeder um die halbe Welt reisen. Hier meine Auswahl an feinen Events und Happynings im Ländle und in Bayern. Wie wär’s mit dem \n5 Elements Festival bei Würzburg\nZum vierten Mal findet am Frankenturm in Eibelstadt (bei Würzburg) das noch ganz junge „5 Elements Festival“ statt. Direkt am Main gelegen\, wird es von Konzerten über Yoga bis hin zu Coachings\, Ecstatic Dance\, Talks und Workshops alles geben\, was Yogi-Herzen erfüllt. Veganes Catering\, Zeltplatz und Kinderbetreuung on top. \nUns erwartet an diesem Wochenende eine innere Reise\, die zum Wesen der Dinge und der Elemente führt. Impulse und Inspiration finden wir bei den Workshops in Hülle & Fülle auf den verschiedenen Event Areas\, die den 5 Elementen zugeordnet sind. Das 5. Element ist das Herz\, das all die anderen Naturkräfte Feuer\, Erde\, Luft & Wasser verbindet. Und so geht es auf diesem Jung-Star unter den Festivals auch genau darum: um Verbindung\, Community\, Vertrauen\, Offenheit\, Frieden & Liebe. \nVielleicht sehen wir uns bei Musik\, beim Meditieren\, beim Tanzen\, beim Yoga\, beim Leben gemeinsam feiern? EARLY BIRD TICKETS bis 31.5.!
URL:https://bettina-voss.de/event/wo-du-mich-triffst-5-elements-festival/
LOCATION:Eibelstadt\, Am Sportpark 5\, Eibelstadt\, 97246
CATEGORIES:Yoga-Events im Ländle
ATTACH;FMTTYPE=image/jpeg:https://bettina-voss.de/wp-content/uploads/2025/04/5elementsFestival.jpg
END:VEVENT
BEGIN:VEVENT
DTSTART;VALUE=DATE:20260910
DTEND;VALUE=DATE:20260914
DTSTAMP:20260421T150215
CREATED:20230316T124541Z
LAST-MODIFIED:20260415T175903Z
UID:1248-1788998400-1789343999@bettina-voss.de
SUMMARY:Wo du mich triffst: Yogafestival am Bodensee
DESCRIPTION:Mein Tipp im September:\nFür die großen Yoga- und Spirit-Festivals und Yoga-Messen will oder kann nicht jeder um die halbe Welt reisen. Hier meine Auswahl an feinen Events und Happynings im Ländle und in Bayern. Wie wär’s mit dem \nYoga-Music-Summer-Festival am Bodensee\nDraußen und barfuß direkt am See – nach diesem Credo findet im Ostbad Überlingens das wohl naturnahste Festival mit Yoga\, Musik\, Tanzen\, Sound und Silence statt.\nUnter großen alten Bäumen\, mit frischer Luft und Seeblick erleben wir Yoga und Gemeinschaft mit den Vielgeliebten der Yoga-Musik-Szene. Den See genießen\, die Seele baumeln lassen und mit Yoga auftanken – das macht dieses Festival für mich zum Leuchtturm des Sommers. Danke an Raphaela für dieses Licht\, das du uns jeden Sommer schenkst! \nWorauf ich mich sehr\, sehr vorfreue:  \nSee – Community – Meditation – Live Music – DJ – Konzerte – Bäume – Vinyasa – Breathwork – Yin Yoga – Kundalini – Philosophie – Coaching – Soulfood – Silent Disco – Face Yoga – Schwimmen – barfuß und draußen – Motherdrum Healing Workshop – Wild Detox Kräuterwalk – Singen – Inspiration – Mantrayoga – Yoga auf dem SUP – Aura fühlen Workshop – Gemeinschaft – Aerial Yoga – Tanzen unterm Sternenhimmel – Vedisches Feuerritual – und das allabendliche Weltfriedensmantrasingen. \nDas Festival ist komplett draußen\, umgeben von frischer Luft und der Weite des Himmels. Bei Regen schützt uns das große dichte Blätterdach und die schönen Bambuszelte. \nVielleicht sehen wir uns auf der Matte – oder unter Bäumen?
URL:https://bettina-voss.de/event/tipp-im-september/
LOCATION:Überlingen\, Strandweg 32\, Überlingen\, 88662
CATEGORIES:Yoga-Events im Ländle
ATTACH;FMTTYPE=image/jpeg:https://bettina-voss.de/wp-content/uploads/2023/03/yogafestivalbodensee.jpg
END:VEVENT
END:VCALENDAR